8.000000000
0.000000
0.000000
-8.000000000
508569.00159635
148587.42265657
