8.000000000
0.000000
0.000000
-8.000000000
507721.41370695
148605.27376596
