8.000000000
0.000000
0.000000
-8.000000000
507724.18943125
148619.74601945
