64.000000000
0.000000
0.000000
-64.000000000
499845.66313482
175664.19646550
