32.81482883217299
0.00000000000000
0.00000000000000
-32.81482883217299
648999.07503671001000
610295.11433828610000
