98.45828376679938
0.00000000000000
0.00000000000000
-98.45828376679938
640610.71936702426000
615176.91852694866000
