196.916566
0.00000000000000
0.00000000000000
-196.916566
640610.71936702426000
615176.91852694866000
